BEGIN:VCALENDAR
VERSION:2.0
PRODID:-//Saint-Jean-de-Luz - ECPv4.9.3.1//NONSGML v1.0//EN
CALSCALE:GREGORIAN
METHOD:PUBLISH
X-WR-CALNAME:Saint-Jean-de-Luz
X-ORIGINAL-URL:https://www.saintjeandeluz.fr
X-WR-CALDESC:Évènements pour Saint-Jean-de-Luz
BEGIN:VEVENT
DTSTART;TZID=Europe/Paris:20260501T090000
DTEND;TZID=Europe/Paris:20260501T120000
DTSTAMP:20260421T163301
CREATED:20260421T031708Z
LAST-MODIFIED:20260421T031708Z
UID:539904-1777626000-1777636800@www.saintjeandeluz.fr
SUMMARY:Stage "Savoir rouler à vélo"
DESCRIPTION:Un stage pour apprendre à pédaler\, circuler et rouler en toute sécurité. L’objectif principal de ces jours d’apprentissage est d’acquérir les compétences nécessaires à une réelle autonomie à vélo avant l’entrée au collège. Cette formation se déroulera en 3 temps : savoir pédaler\, savoir circuler & savoir rouler ! Des activités ludiques accompagneront les temps d’apprentissage. À l’issue des 2 jours\, une attestation « Savoir rouler à vélo » sera délivrée.\nPour les enfants de 7 à 11 ans\nInscriptions obligatoires\nVendredi de 9h à 12h et de 13h30 à 16h30 (savoir pédaler & savoir circuler)\nDimanche de10h à 12h30 (savoir rouler) \n
URL:https://www.saintjeandeluz.fr/fr/evenements/stage-savoir-rouler-a-velo/
CATEGORIES:Animation Jeune Public,Atelier/Stage
ATTACH;FMTTYPE=image/jpeg:https://www.saintjeandeluz.fr/wp-content/uploads/2026/04/2024-05-15-stage-savoir-rouler-velo-10-V2.jpg
END:VEVENT
END:VCALENDAR