BEGIN:VCALENDAR
VERSION:2.0
PRODID:-//Saint-Jean-de-Luz - ECPv4.9.3.1//NONSGML v1.0//EN
CALSCALE:GREGORIAN
METHOD:PUBLISH
X-WR-CALNAME:Saint-Jean-de-Luz
X-ORIGINAL-URL:https://www.saintjeandeluz.fr
X-WR-CALDESC:Évènements pour Saint-Jean-de-Luz
BEGIN:VEVENT
DTSTART;TZID=Europe/Paris:20260614T193000
DTEND;TZID=Europe/Paris:20260614T210000
DTSTAMP:20260424T064536
CREATED:20260424T032332Z
LAST-MODIFIED:20260424T032332Z
UID:540950-1781465400-1781470800@www.saintjeandeluz.fr
SUMMARY:Spectacle de fin d'année de l'association Flamencas de Catalina
DESCRIPTION:Spectacle de fin d’année de l’association luzienne Sueño Flamenco. « Y porque no »\n infos billetterie : réservation des billets par téléphone ou via les réseaux sociaux.  \n
URL:https://www.saintjeandeluz.fr/fr/evenements/spectacle-de-fin-dannee-de-lassociation-flamencas-de-catalina/
CATEGORIES:Spectacle
ATTACH;FMTTYPE=image/png:https://www.saintjeandeluz.fr/wp-content/uploads/2025/05/OK-AFFICHE-Y-PORQUE-NO.png
END:VEVENT
END:VCALENDAR