BEGIN:VCALENDAR
VERSION:2.0
PRODID:-//Saint-Jean-de-Luz - ECPv4.9.3.1//NONSGML v1.0//EN
CALSCALE:GREGORIAN
METHOD:PUBLISH
X-WR-CALNAME:Saint-Jean-de-Luz
X-ORIGINAL-URL:https://www.saintjeandeluz.fr
X-WR-CALDESC:Évènements pour Saint-Jean-de-Luz
BEGIN:VEVENT
DTSTART;TZID=Europe/Paris:20260613T200000
DTEND;TZID=Europe/Paris:20260613T213000
DTSTAMP:20260421T144534
CREATED:20260421T031706Z
LAST-MODIFIED:20260421T031706Z
UID:539902-1781380800-1781386200@www.saintjeandeluz.fr
SUMMARY:Spectacle de danse "les pieds nus"
DESCRIPTION:Spectacle de danse par l’association les vies dansent 64 chorégraphiée par Delphine Etchegoyen Debarbieux \n
URL:https://www.saintjeandeluz.fr/fr/evenements/spectacle-de-danse-les-pieds-nus/
CATEGORIES:Spectacle
ATTACH;FMTTYPE=image/jpeg:https://www.saintjeandeluz.fr/wp-content/uploads/2026/04/les-pieds-nus.jpg
END:VEVENT
END:VCALENDAR