BEGIN:VCALENDAR
VERSION:2.0
PRODID:-//Saint-Jean-de-Luz - ECPv4.9.3.1//NONSGML v1.0//EN
CALSCALE:GREGORIAN
METHOD:PUBLISH
X-WR-CALNAME:Saint-Jean-de-Luz
X-ORIGINAL-URL:https://www.saintjeandeluz.fr
X-WR-CALDESC:Évènements pour Saint-Jean-de-Luz
BEGIN:VEVENT
DTSTART;TZID=Europe/Paris:20261227T110000
DTEND;TZID=Europe/Paris:20261227T130000
DTSTAMP:20260423T072216
CREATED:20260423T032256Z
LAST-MODIFIED:20260423T032256Z
UID:540597-1798369200-1798376400@www.saintjeandeluz.fr
SUMMARY:Le brunch des Halles
DESCRIPTION:Les commerçants des Halles\, vous proposent tous les derniers dimanches du mois un apéro brunch leurs produits autour d’un verre. \n
URL:https://www.saintjeandeluz.fr/fr/evenements/le-brunch-des-halles-9/
CATEGORIES:Animations locales
ATTACH;FMTTYPE=image/jpeg:https://www.saintjeandeluz.fr/wp-content/uploads/2026/04/IMG-0361-3.jpeg
END:VEVENT
END:VCALENDAR