BEGIN:VCALENDAR
VERSION:2.0
PRODID:-//Saint-Jean-de-Luz - ECPv4.9.3.1//NONSGML v1.0//EN
CALSCALE:GREGORIAN
METHOD:PUBLISH
X-WR-CALNAME:Saint-Jean-de-Luz
X-ORIGINAL-URL:https://www.saintjeandeluz.fr
X-WR-CALDESC:Évènements pour Saint-Jean-de-Luz
BEGIN:VEVENT
DTSTART;VALUE=DATE:20260613
DTEND;VALUE=DATE:20260615
DTSTAMP:20260424T092034
CREATED:20260424T032311Z
LAST-MODIFIED:20260424T032311Z
UID:540920-1781308800-1781481599@www.saintjeandeluz.fr
SUMMARY:Fêtes du quartier d'Acotz
DESCRIPTION:Une semaine avant les fêtes patronales de la ville\, le quartier d’Acotz s’anime avec ses traditionnelles fêtes ! \nSamedi 13 Juin 2026\n18H30 Messe à la chapelle d’Acotz \nA partir de 19H00: Apéritif – Chants – Mutxikos au Gaztetxe  \nDimanche 14 Juin 2026\nA partir de 11H30 apéritif puis ZIKIRO Fetes d’Acotz. \n
URL:https://www.saintjeandeluz.fr/fr/evenements/fetes-du-quartier-dacotz/
CATEGORIES:Animations locales,Concert,Évènement religieux
ATTACH;FMTTYPE=image/jpeg:https://www.saintjeandeluz.fr/wp-content/uploads/2024/04/fanions-4.jpg
END:VEVENT
END:VCALENDAR