BEGIN:VCALENDAR
VERSION:2.0
PRODID:-//Saint-Jean-de-Luz - ECPv4.9.3.1//NONSGML v1.0//EN
CALSCALE:GREGORIAN
METHOD:PUBLISH
X-WR-CALNAME:Saint-Jean-de-Luz
X-ORIGINAL-URL:https://www.saintjeandeluz.fr
X-WR-CALDESC:Évènements pour Saint-Jean-de-Luz
BEGIN:VEVENT
DTSTART;TZID=Europe/Paris:20260724T190000
DTEND;TZID=Europe/Paris:20260724T210000
DTSTAMP:20260424T075229
CREATED:20260424T032319Z
LAST-MODIFIED:20260424T032319Z
UID:540931-1784919600-1784926800@www.saintjeandeluz.fr
SUMMARY:Danse tango
DESCRIPTION:Danse tango \n
URL:https://www.saintjeandeluz.fr/fr/evenements/danse-tango/
CATEGORIES:Concert,Divertissement,Spectacle
ATTACH;FMTTYPE=image/jpeg:https://www.saintjeandeluz.fr/wp-content/uploads/2026/04/kiosque-14.jpg
END:VEVENT
END:VCALENDAR