BEGIN:VCALENDAR
VERSION:2.0
PRODID:-//Saint-Jean-de-Luz - ECPv4.9.3.1//NONSGML v1.0//EN
CALSCALE:GREGORIAN
METHOD:PUBLISH
X-WR-CALNAME:Saint-Jean-de-Luz
X-ORIGINAL-URL:https://www.saintjeandeluz.fr
X-WR-CALDESC:Évènements pour Saint-Jean-de-Luz
BEGIN:VEVENT
DTSTART;TZID=Europe/Paris:20260811T200000
DTEND;TZID=Europe/Paris:20260811T220000
DTSTAMP:20260424T063339
CREATED:20260424T032323Z
LAST-MODIFIED:20260424T032323Z
UID:540937-1786478400-1786485600@www.saintjeandeluz.fr
SUMMARY:Cuivres en Pays Basque -
DESCRIPTION:Cuivres en Pays basque \n
URL:https://www.saintjeandeluz.fr/fr/evenements/cuivres-en-pays-basque/
CATEGORIES:Concert
ATTACH;FMTTYPE=image/jpeg:https://www.saintjeandeluz.fr/wp-content/uploads/2024/08/Concert-Restitution-18-aout-TS-1440x900.jpg
END:VEVENT
END:VCALENDAR