BEGIN:VCALENDAR
VERSION:2.0
PRODID:-//Saint-Jean-de-Luz - ECPv4.9.3.1//NONSGML v1.0//EN
CALSCALE:GREGORIAN
METHOD:PUBLISH
X-WR-CALNAME:Saint-Jean-de-Luz
X-ORIGINAL-URL:https://www.saintjeandeluz.fr
X-WR-CALDESC:Évènements pour Saint-Jean-de-Luz
BEGIN:VEVENT
DTSTART;TZID=Europe/Paris:20260702T210000
DTEND;TZID=Europe/Paris:20260702T230000
DTSTAMP:20260421T231752
CREATED:20260421T030755Z
LAST-MODIFIED:20260421T030755Z
UID:519237-1783026000-1783033200@www.saintjeandeluz.fr
SUMMARY:Concert vocal et instrumental
DESCRIPTION:Choeur de l’Orchestre du Pays basque dirigé par Philippe Mendes suivi de David Rachet. \n
URL:https://www.saintjeandeluz.fr/fr/evenements/concert-vocal-et-instrumental/
CATEGORIES:Concert,Spectacle
ATTACH;FMTTYPE=image/jpeg:https://www.saintjeandeluz.fr/wp-content/uploads/2026/02/KOMCEBO-2024-OSPB.jpg
END:VEVENT
END:VCALENDAR