BEGIN:VCALENDAR
VERSION:2.0
PRODID:-//Saint-Jean-de-Luz - ECPv4.9.3.1//NONSGML v1.0//EN
CALSCALE:GREGORIAN
METHOD:PUBLISH
X-WR-CALNAME:Saint-Jean-de-Luz
X-ORIGINAL-URL:https://www.saintjeandeluz.fr
X-WR-CALDESC:Évènements pour Saint-Jean-de-Luz
BEGIN:VEVENT
DTSTART;TZID=Europe/Paris:20261001T210000
DTEND;TZID=Europe/Paris:20261001T223000
DTSTAMP:20260421T133416
CREATED:20260421T031550Z
LAST-MODIFIED:20260421T031551Z
UID:535762-1790888400-1790893800@www.saintjeandeluz.fr
SUMMARY:Concert des choeurs basques Itsasoa
DESCRIPTION:Le choeur est composé de 40 choristes avec des chants basques traditionnels profanes et religieux\, \n
URL:https://www.saintjeandeluz.fr/fr/evenements/concert-des-choeurs-basques-itsasoa-2/
CATEGORIES:Concert
ATTACH;FMTTYPE=image/jpeg:https://www.saintjeandeluz.fr/wp-content/uploads/2023/10/Itsasoa-mer-TS.jpg
END:VEVENT
END:VCALENDAR