BEGIN:VCALENDAR
VERSION:2.0
PRODID:-//Saint-Jean-de-Luz - ECPv4.9.3.1//NONSGML v1.0//EN
CALSCALE:GREGORIAN
METHOD:PUBLISH
X-WR-CALNAME:Saint-Jean-de-Luz
X-ORIGINAL-URL:https://www.saintjeandeluz.fr
X-WR-CALDESC:Évènements pour Saint-Jean-de-Luz
BEGIN:VEVENT
DTSTART;TZID=Europe/Paris:20260815T193000
DTEND;TZID=Europe/Paris:20260815T000000
DTSTAMP:20260424T064017
CREATED:20260424T032328Z
LAST-MODIFIED:20260424T032328Z
UID:540945-1786822200-1786752000@www.saintjeandeluz.fr
SUMMARY:Concert au kiosque -The voice Kids
DESCRIPTION:Victoria – ¼ finaliste Slimane TVK 2024\nApril – finaliste Patrick Fiori TVK 2024\nTim – finaliste Lara Fabian et vainqueur TVK 2024\nWylie – finaliste Santa TVK 2025 \n
URL:https://www.saintjeandeluz.fr/fr/evenements/concert-au-kiosque-the-voice-kids/
CATEGORIES:Spectacle
ATTACH;FMTTYPE=image/jpeg:https://www.saintjeandeluz.fr/wp-content/uploads/2026/04/Design-sans-titre-401.jpg
END:VEVENT
END:VCALENDAR