BEGIN:VCALENDAR
VERSION:2.0
PRODID:-//Saint-Jean-de-Luz - ECPv4.9.3.1//NONSGML v1.0//EN
CALSCALE:GREGORIAN
METHOD:PUBLISH
X-WR-CALNAME:Saint-Jean-de-Luz
X-ORIGINAL-URL:https://www.saintjeandeluz.fr
X-WR-CALDESC:Évènements pour Saint-Jean-de-Luz
BEGIN:VEVENT
DTSTART;TZID=Europe/Paris:20260716T190000
DTEND;TZID=Europe/Paris:20260716T210000
DTSTAMP:20260424T091802
CREATED:20260424T032318Z
LAST-MODIFIED:20260424T032318Z
UID:540930-1784228400-1784235600@www.saintjeandeluz.fr
SUMMARY:Concert au kiosque: Popo & the Papa's
DESCRIPTION:Apéro-concert avec Popo & the Papa’s \n
URL:https://www.saintjeandeluz.fr/fr/evenements/concert-au-kiosque-popo-the-papas/
CATEGORIES:Concert,Divertissement
ATTACH;FMTTYPE=image/jpeg:https://www.saintjeandeluz.fr/wp-content/uploads/2026/03/animation-musicale-kiosque-soir-saint-jean-de-luz.jpg
END:VEVENT
END:VCALENDAR