BEGIN:VCALENDAR
VERSION:2.0
PRODID:-//Saint-Jean-de-Luz - ECPv4.9.3.1//NONSGML v1.0//EN
CALSCALE:GREGORIAN
METHOD:PUBLISH
X-WR-CALNAME:Saint-Jean-de-Luz
X-ORIGINAL-URL:https://www.saintjeandeluz.fr
X-WR-CALDESC:Évènements pour Saint-Jean-de-Luz
BEGIN:VEVENT
DTSTART;TZID=Europe/Paris:20260828T203000
DTEND;TZID=Europe/Paris:20260828T000000
DTSTAMP:20260424T063834
CREATED:20260424T032327Z
LAST-MODIFIED:20260424T032327Z
UID:540943-1787949000-1787875200@www.saintjeandeluz.fr
SUMMARY:Concert au kiosque - Giscard is not dead
DESCRIPTION:Bal avec Giscard is not dead \n
URL:https://www.saintjeandeluz.fr/fr/evenements/concert-au-kiosque-giscard-is-not-dead/
CATEGORIES:Spectacle
ATTACH;FMTTYPE=image/jpeg:https://www.saintjeandeluz.fr/wp-content/uploads/2024/03/TOURINSOFT-Kiosque-general3-2.jpg
END:VEVENT
END:VCALENDAR