BEGIN:VCALENDAR
VERSION:2.0
PRODID:-//Saint-Jean-de-Luz - ECPv4.9.3.1//NONSGML v1.0//EN
CALSCALE:GREGORIAN
METHOD:PUBLISH
X-WR-CALNAME:Saint-Jean-de-Luz
X-ORIGINAL-URL:https://www.saintjeandeluz.fr
X-WR-CALDESC:Évènements pour Saint-Jean-de-Luz
BEGIN:VEVENT
DTSTART;TZID=Europe/Paris:20260508T113000
DTEND;TZID=Europe/Paris:20260508T130000
DTSTAMP:20260424T102656
CREATED:20260424T032312Z
LAST-MODIFIED:20260424T032312Z
UID:540921-1778239800-1778245200@www.saintjeandeluz.fr
SUMMARY:Concert au kiosque - Chorale Gurekin
DESCRIPTION:À partir du mois d’avril\, et jusqu’au mois d’octobre\, les concerts apéro sont de retour au kiosque.\nRetrouvez tous les dimanches (et jours féries) à partir de 11h30\, une animation musicale orchestrée par un groupe local : chants traditionnels basques\, banda\, concerts… viendront animer vos apéritifs sur la Place Louis XIV.\nProfitez de ces concerts durant votre balade en centre-ville ou directement en terrasse. \n
URL:https://www.saintjeandeluz.fr/fr/evenements/concert-au-kiosque-chorale-gurekin/
CATEGORIES:Animations locales,Concert,Divertissement
ATTACH;FMTTYPE=image/jpeg:https://www.saintjeandeluz.fr/wp-content/uploads/2025/02/TOURINSOFT-Kiosque-general3-4.jpg
END:VEVENT
END:VCALENDAR