BEGIN:VCALENDAR
VERSION:2.0
PRODID:-//Saint-Jean-de-Luz - ECPv4.9.3.1//NONSGML v1.0//EN
CALSCALE:GREGORIAN
METHOD:PUBLISH
X-WR-CALNAME:Saint-Jean-de-Luz
X-ORIGINAL-URL:https://www.saintjeandeluz.fr
X-WR-CALDESC:Évènements pour Saint-Jean-de-Luz
BEGIN:VEVENT
DTSTART;TZID=Europe/Paris:20260726T190000
DTEND;TZID=Europe/Paris:20260726T203000
DTSTAMP:20260424T063752
CREATED:20260424T032320Z
LAST-MODIFIED:20260424T032320Z
UID:540933-1785092400-1785097800@www.saintjeandeluz.fr
SUMMARY:Concert au kiosque - Cadijo
DESCRIPTION:Apéro-concert avec Cadijo\nProfitez de ces concerts durant votre balade en centre-ville ou directement en terrasse. \n
URL:https://www.saintjeandeluz.fr/fr/evenements/concert-au-kiosque-cadijo/
CATEGORIES:Concert,Divertissement
ATTACH;FMTTYPE=image/jpeg:https://www.saintjeandeluz.fr/wp-content/uploads/2025/02/Sans-titre-1-394.jpg
END:VEVENT
END:VCALENDAR