BEGIN:VCALENDAR
VERSION:2.0
PRODID:-//Saint-Jean-de-Luz - ECPv4.9.3.1//NONSGML v1.0//EN
CALSCALE:GREGORIAN
METHOD:PUBLISH
X-WR-CALNAME:Saint-Jean-de-Luz
X-ORIGINAL-URL:https://www.saintjeandeluz.fr
X-WR-CALDESC:Évènements pour Saint-Jean-de-Luz
BEGIN:VEVENT
DTSTART;TZID=Europe/Paris:20260814T190000
DTEND;TZID=Europe/Paris:20260814T203000
DTSTAMP:20260424T065305
CREATED:20260424T032324Z
LAST-MODIFIED:20260424T032324Z
UID:540938-1786734000-1786739400@www.saintjeandeluz.fr
SUMMARY:Concert apéro au kiosque avec Kriolinak
DESCRIPTION:A partir du mois d’avril\, et jusqu’au mois d’octobre\, les concerts apéro sont de retours au kiosque.\nRetrouvez tous les dimanches à partir de 11h30\, une animation musicale orchestrée par un groupe local : chants traditionnels basques\, banda\, concerts… viendront animer vos apéritifs sur la Place Louis XIV.\nProfitez de ces concerts durant votre balade en centre-ville ou directement en terrasse. \nKriolinak est  un groupe polyphonique\, folk et traditionnel Basque. Le trio/quatuor de musiciens-chanteurs revisite le répertoire traditionnel\, et crée de très beaux titres. Le groupe existe depuis plus de 30 ans\, et a su se renouveler au fil des années\, en gardant intact l’amour du chant\, des belles voix\, la complicité et le partage avec le public. \n
URL:https://www.saintjeandeluz.fr/fr/evenements/concert-apero-au-kiosque-avec-kriolinak-2/
CATEGORIES:Concert,Divertissement
ATTACH;FMTTYPE=image/jpeg:https://www.saintjeandeluz.fr/wp-content/uploads/2022/03/215456944-1953251131517111-4973171705236295052-n.jpg
END:VEVENT
END:VCALENDAR