BEGIN:VCALENDAR
VERSION:2.0
PRODID:-//Saint-Jean-de-Luz - ECPv4.9.3.1//NONSGML v1.0//EN
CALSCALE:GREGORIAN
METHOD:PUBLISH
X-WR-CALNAME:Saint-Jean-de-Luz
X-ORIGINAL-URL:https://www.saintjeandeluz.fr
X-WR-CALDESC:Évènements pour Saint-Jean-de-Luz
BEGIN:VEVENT
DTSTART;TZID=Europe/Paris:20260711T210000
DTEND;TZID=Europe/Paris:20260711T000000
DTSTAMP:20260424T123310
CREATED:20260424T032315Z
LAST-MODIFIED:20260424T032315Z
UID:540926-1783803600-1783728000@www.saintjeandeluz.fr
SUMMARY:Bal au kiosque avec Funk on the beach
DESCRIPTION:Bal avec le groupe Funk on the beach \n
URL:https://www.saintjeandeluz.fr/fr/evenements/bal-au-kiosque-avec-funk-on-the-beach/
CATEGORIES:Concert,Divertissement,Spectacle
ATTACH;FMTTYPE=image/png:https://www.saintjeandeluz.fr/wp-content/uploads/2024/03/Sans-titre-2.png
END:VEVENT
END:VCALENDAR